BEGIN:VCALENDAR
VERSION:2.0
PRODID:-//NISA - ECPv6.15.17.1//NONSGML v1.0//EN
CALSCALE:GREGORIAN
METHOD:PUBLISH
X-ORIGINAL-URL:https://asknisa.org
X-WR-CALDESC:Events for NISA
REFRESH-INTERVAL;VALUE=DURATION:PT1H
X-Robots-Tag:noindex
X-PUBLISHED-TTL:PT1H
BEGIN:VTIMEZONE
TZID:America/Los_Angeles
BEGIN:DAYLIGHT
TZOFFSETFROM:-0800
TZOFFSETTO:-0700
TZNAME:PDT
DTSTART:20210314T100000
END:DAYLIGHT
BEGIN:STANDARD
TZOFFSETFROM:-0700
TZOFFSETTO:-0800
TZNAME:PST
DTSTART:20211107T090000
END:STANDARD
BEGIN:DAYLIGHT
TZOFFSETFROM:-0800
TZOFFSETTO:-0700
TZNAME:PDT
DTSTART:20220313T100000
END:DAYLIGHT
BEGIN:STANDARD
TZOFFSETFROM:-0700
TZOFFSETTO:-0800
TZNAME:PST
DTSTART:20221106T090000
END:STANDARD
BEGIN:DAYLIGHT
TZOFFSETFROM:-0800
TZOFFSETTO:-0700
TZNAME:PDT
DTSTART:20230312T100000
END:DAYLIGHT
BEGIN:STANDARD
TZOFFSETFROM:-0700
TZOFFSETTO:-0800
TZNAME:PST
DTSTART:20231105T090000
END:STANDARD
END:VTIMEZONE
BEGIN:VEVENT
DTSTART;TZID=America/Los_Angeles:20221030T170000
DTEND;TZID=America/Los_Angeles:20221030T193000
DTSTAMP:20260421T025305
CREATED:20220905T063335Z
LAST-MODIFIED:20221030T221406Z
UID:10000028-1667149200-1667158200@asknisa.org
SUMMARY:NISA Annual Banquet
DESCRIPTION:What do you get when you put two California natives of Egyptian and Indian descent who happen to be an Imam\, Social Worker\, Chaplain and Community Educator together? Uh… a really crowded room? You get the depth of experience that Shaykh Suhail Mulla and Ustadha Lobna Mulla have shared with multiple communities over the past two decades. \nMore info about our speakers. \nSponsorship Opportunities available for companies\, non-profits\, and local product donors. \nOur Sponsors \n[ninja_tables id=”4465″]
URL:https://asknisa.org/event/nisa-annual-banquet/
LOCATION:Chandni Restaurant\, 5748 Mowry School Rd\, Newark\, CA\, 94560\, United States
ATTACH;FMTTYPE=image/png:https://asknisa.org/wp-content/uploads/2022/09/NISA-Annual-Banquet-2022-3-1.png
END:VEVENT
END:VCALENDAR